BEGIN:VCALENDAR
VERSION:2.0
PRODID:-//Field Arts &amp; Events Hall - ECPv6.15.20//NONSGML v1.0//EN
CALSCALE:GREGORIAN
METHOD:PUBLISH
X-ORIGINAL-URL:https://fieldhallevents.org
X-WR-CALDESC:Events for Field Arts &amp; Events Hall
REFRESH-INTERVAL;VALUE=DURATION:PT1H
X-Robots-Tag:noindex
X-PUBLISHED-TTL:PT1H
BEGIN:VTIMEZONE
TZID:America/Los_Angeles
BEGIN:DAYLIGHT
TZOFFSETFROM:-0800
TZOFFSETTO:-0700
TZNAME:PDT
DTSTART:20250309T100000
END:DAYLIGHT
BEGIN:STANDARD
TZOFFSETFROM:-0700
TZOFFSETTO:-0800
TZNAME:PST
DTSTART:20251102T090000
END:STANDARD
BEGIN:DAYLIGHT
TZOFFSETFROM:-0800
TZOFFSETTO:-0700
TZNAME:PDT
DTSTART:20260308T100000
END:DAYLIGHT
BEGIN:STANDARD
TZOFFSETFROM:-0700
TZOFFSETTO:-0800
TZNAME:PST
DTSTART:20261101T090000
END:STANDARD
BEGIN:DAYLIGHT
TZOFFSETFROM:-0800
TZOFFSETTO:-0700
TZNAME:PDT
DTSTART:20270314T100000
END:DAYLIGHT
BEGIN:STANDARD
TZOFFSETFROM:-0700
TZOFFSETTO:-0800
TZNAME:PST
DTSTART:20271107T090000
END:STANDARD
END:VTIMEZONE
BEGIN:VEVENT
DTSTART;TZID=America/Los_Angeles:20260412T130000
DTEND;TZID=America/Los_Angeles:20260412T170000
DTSTAMP:20260419T224407
CREATED:20260304T184331Z
LAST-MODIFIED:20260304T184331Z
UID:10007605-1775998800-1776013200@fieldhallevents.org
SUMMARY:North Olympic Land Trust Presents: 2026 Conservation Connection: Art in Conservation
DESCRIPTION:North Olympic Land Trust Presents: 2026 Conservation Connection: Art in Conservation\nSunday\, April 12th | 1PM | Field Arts & Events Hall | FREE COMMUNITY EVENT | Suggested Donation $25\nRSVP HERE \nJoin the 18th Annual Conservation Connection (formerly known as Conservation Breakfast)! This year’s theme is Art in Conservation. Together\, we will dive into the intersection of art and conservation in everyday life\, featuring local artists whose creative work is making a positive impact across the Pacific Northwest. This artist panel discussion\, co-hosted by North Olympic Land Trust and the Port Angeles Fine Arts Center\, will offer an engaging hour of conversation about how artists weave conservation into their work\, with panelists sharing the inspirations\, challenges\, and real-life examples that guide their practice. Following the panel discussion\, this year’s Outstanding in the Field winner will be awarded\, and we’ll share an exciting update from the Land Trust. \n\nThe Details: Sunday\, April 12th\, 2026 | Doors open at 1:00 p.m. | Presentation at 1:30 p.m. | Refreshments before & after the presentations | at the Field Arts & Events Hall | 201 W Front St\, Port Angeles (driving directions & parking and public transit) \nThis artist panel discussion\, co-hosted by North Olympic Land Trust and the Port Angeles Fine Arts Center\, will offer an engaging hour of conversation about how artists weave conservation into their work\, with panelists sharing the inspirations\, challenges\, and real-life examples that guide their practice. Following the panel discussion\, this year’s Outstanding in the Field winner will be awarded\, and we’ll share an exciting update from the Land Trust. \nPlease reach out to Annie with questions at: annabelle@northolympiclandtrust.org or (360) 417-1815 ext 1.
URL:https://fieldhallevents.org/event/north-olympic-land-trust-presents-2026-conservation-connection/
LOCATION:Field Arts & Events Hall – Sunset Lounge\, 201 W Front Street\, Port Angeles\, WA\, 98362\, United States
CATEGORIES:Community Partnership,Food & Drink,Guest Presenter
ATTACH;FMTTYPE=image/jpeg:https://fieldhallevents.org/wp-content/uploads/2026/03/Conservation-Connection_FH-1080-x-1080-px.jpg
END:VEVENT
END:VCALENDAR