BEGIN:VCALENDAR
VERSION:2.0
PRODID:-//Field Arts &amp; Events Hall - ECPv6.15.20//NONSGML v1.0//EN
CALSCALE:GREGORIAN
METHOD:PUBLISH
X-ORIGINAL-URL:https://fieldhallevents.org
X-WR-CALDESC:Events for Field Arts &amp; Events Hall
REFRESH-INTERVAL;VALUE=DURATION:PT1H
X-Robots-Tag:noindex
X-PUBLISHED-TTL:PT1H
BEGIN:VTIMEZONE
TZID:America/Los_Angeles
BEGIN:DAYLIGHT
TZOFFSETFROM:-0800
TZOFFSETTO:-0700
TZNAME:PDT
DTSTART:20240310T100000
END:DAYLIGHT
BEGIN:STANDARD
TZOFFSETFROM:-0700
TZOFFSETTO:-0800
TZNAME:PST
DTSTART:20241103T090000
END:STANDARD
BEGIN:DAYLIGHT
TZOFFSETFROM:-0800
TZOFFSETTO:-0700
TZNAME:PDT
DTSTART:20250309T100000
END:DAYLIGHT
BEGIN:STANDARD
TZOFFSETFROM:-0700
TZOFFSETTO:-0800
TZNAME:PST
DTSTART:20251102T090000
END:STANDARD
BEGIN:DAYLIGHT
TZOFFSETFROM:-0800
TZOFFSETTO:-0700
TZNAME:PDT
DTSTART:20260308T100000
END:DAYLIGHT
BEGIN:STANDARD
TZOFFSETFROM:-0700
TZOFFSETTO:-0800
TZNAME:PST
DTSTART:20261101T090000
END:STANDARD
BEGIN:DAYLIGHT
TZOFFSETFROM:-0800
TZOFFSETTO:-0700
TZNAME:PDT
DTSTART:20270314T100000
END:DAYLIGHT
BEGIN:STANDARD
TZOFFSETFROM:-0700
TZOFFSETTO:-0800
TZNAME:PST
DTSTART:20271107T090000
END:STANDARD
END:VTIMEZONE
BEGIN:VEVENT
DTSTART;TZID=America/Los_Angeles:20260423T080000
DTEND;TZID=America/Los_Angeles:20260423T150000
DTSTAMP:20260424T015637
CREATED:20250612T163051Z
LAST-MODIFIED:20250612T163051Z
UID:10007247-1776931200-1776956400@fieldhallevents.org
SUMMARY:Waterfront Coffee Bar Open
DESCRIPTION:  \nThe Waterfront Coffee Bar at Field Hall is open daily from 8AM – 3PM. Located just off the Waterfront Discovery Trail with views of the Strait of Juan de Fuca\, the Waterfront Coffee Bar is the perfect stop for a specialty espresso drink or a delicious\, quick breakfast or lunch in Port Angeles. Drive\, walk\, or bike up! Our wheelchair accessible entrance is located at the corner of Oak Street and Railroad Ave in downtown Port Angeles.
URL:https://fieldhallevents.org/event/waterfront-coffee-bar-open-2/2026-04-23/
LOCATION:Waterfront Coffee Bar at Field Hall\, 201 W Front Street\, Port Angeles\, WA\, 98362\, United States
CATEGORIES:Cafe,Food & Drink
END:VEVENT
BEGIN:VEVENT
DTSTART;TZID=America/Los_Angeles:20250515T090000
DTEND;TZID=America/Los_Angeles:20250515T150000
DTSTAMP:20260424T015637
CREATED:20250116T203440Z
LAST-MODIFIED:20250612T162314Z
UID:10004923-1747299600-1747321200@fieldhallevents.org
SUMMARY:Waterfront Coffee Bar at Field Hall Open
DESCRIPTION:  \n  \n 
URL:https://fieldhallevents.org/event/coffee-bar-open/2025-05-15/
LOCATION:Waterfront Coffee Bar at Field Hall\, 201 W Front Street\, Port Angeles\, WA\, 98362\, United States
CATEGORIES:Cafe
ATTACH;FMTTYPE=image/png:https://fieldhallevents.org/wp-content/uploads/2025/01/coffee-new-hours.png
END:VEVENT
BEGIN:VEVENT
DTSTART;TZID=America/Los_Angeles:20250111T070000
DTEND;TZID=America/Los_Angeles:20250111T160000
DTSTAMP:20260424T015637
CREATED:20240524T001856Z
LAST-MODIFIED:20250108T165156Z
UID:10004447-1736578800-1736611200@fieldhallevents.org
SUMMARY:Waterfront Coffee Bar at Field Hall Open
DESCRIPTION:COFFEE\, ESPRESSO\, TEA\, HOUSE-MADE PASTRIES IN DOWNTOWN PORT ANGELES\n\n\n\n\nThe Waterfront Coffee Bar at Field Hall is open 7AM – 4PM Monday through Saturday and serves coffee\, espresso\, tea\, spritzers\, soft drinks and local beer and wine. Enjoy house-made pastries as well as grab-and-go sandwiches\, salads\, and Toga’s soups. Enter the Waterfront Coffee Bar from our north (waterside) entrance off of Oak Street. \n\n\n\n\n\n\n\n\nWATERFRONT COFFEE BAR MENU\n\n\n\n\nBreakfast Sandwich | English Muffin\, Egg\, Cheddar $3 \nADD: \n\nBacon\, Ham or Sausage +$1\nPortabella (cold) +$1\nSub House-made Brioche or Bagel +$2\nMicrogreens & Garlic/Paprika aioli +$0.50\n\n  \nHOUSE BAKED GOODS\nSavory squares $5.00 \nSweet and savory scones (rotating seasonal flavors)\nStandard $3.50\nBites $2.50 \nApple Caramel Roll $5\nBlueberry Orange Roll $5 \nHouse made sourdough bagels (rotating seasonal flavors)\nPlain $2.50\nFlavored $3.50\nAdd: Cream Cheese +$1\nButter +$0.50 \nFlavored cream cheese:\nSalmon\, caper and dill\nFresh herb\nMixed berry \nHouse made cookies (one for $1.50\, two for $2.50) \n\nBrown butter sourdough chocolate chip\n(GF) Peanut butter white chocolate chip\nSnickerdoodles\nOatmeal raisin\n\n  \nLUNCH\nSoups Cup 6/Bowl $10 \nSalads\nClassic Caesar $10\nField Hall salad $12\nSeasonal fruit\, Candied Pecans\, Goat Cheese\, Champagne Vinaigrette on a bed of romaine and fresh local Microgreens from Hope Rising Microgreens \nDeli sandwiches\nAll served with kettle chips and pickle spear \nRoast beef & havarti $15\nThin sliced roast beef\, Havarti horseradish cheese\, Microgreens\, tomato\, red onion and a pickle \nHam & cheddar $13\nSmoked ham\, cheddar cheese\, microgreens\, tomato\, red onion\n\nTurkey & provolone $13\nSmoked turkey\, provolone cheese\, microgreens\, tomato\, red onion \nPulled portobello $12\nwith bbq sauce on brioche bread
URL:https://fieldhallevents.org/event/waterfront-coffee-bar-at-field-hall-open/2025-01-11/
LOCATION:Waterfront Coffee Bar at Field Hall\, 201 W Front Street\, Port Angeles\, WA\, 98362\, United States
CATEGORIES:Cafe,Food & Drink
ATTACH;FMTTYPE=image/jpeg:https://fieldhallevents.org/wp-content/uploads/2024/05/Waterfront-Coffee-Bar-1080x1080-1.jpg
END:VEVENT
END:VCALENDAR